BEGIN:VCALENDAR
VERSION:2.0
PRODID:-//Siebenb&uuml;rger-Sachsen Landshut - ECPv6.15.20//NONSGML v1.0//EN
CALSCALE:GREGORIAN
METHOD:PUBLISH
X-ORIGINAL-URL:https://siebenbuerger-landshut.de
X-WR-CALDESC:Veranstaltungen für Siebenb&uuml;rger-Sachsen Landshut
REFRESH-INTERVAL;VALUE=DURATION:PT1H
X-Robots-Tag:noindex
X-PUBLISHED-TTL:PT1H
BEGIN:VTIMEZONE
TZID:Europe/Berlin
BEGIN:DAYLIGHT
TZOFFSETFROM:+0100
TZOFFSETTO:+0200
TZNAME:CEST
DTSTART:20250330T010000
END:DAYLIGHT
BEGIN:STANDARD
TZOFFSETFROM:+0200
TZOFFSETTO:+0100
TZNAME:CET
DTSTART:20251026T010000
END:STANDARD
BEGIN:DAYLIGHT
TZOFFSETFROM:+0100
TZOFFSETTO:+0200
TZNAME:CEST
DTSTART:20260329T010000
END:DAYLIGHT
BEGIN:STANDARD
TZOFFSETFROM:+0200
TZOFFSETTO:+0100
TZNAME:CET
DTSTART:20261025T010000
END:STANDARD
BEGIN:DAYLIGHT
TZOFFSETFROM:+0100
TZOFFSETTO:+0200
TZNAME:CEST
DTSTART:20270328T010000
END:DAYLIGHT
BEGIN:STANDARD
TZOFFSETFROM:+0200
TZOFFSETTO:+0100
TZNAME:CET
DTSTART:20271031T010000
END:STANDARD
END:VTIMEZONE
BEGIN:VEVENT
DTSTART;TZID=Europe/Berlin:20261204T190000
DTEND;TZID=Europe/Berlin:20261204T233000
DTSTAMP:20260420T030648
CREATED:20260123T192509Z
LAST-MODIFIED:20260123T192509Z
UID:341-1796410800-1796427000@siebenbuerger-landshut.de
SUMMARY:SIEBENBÜRGISCHER STAMMTISCH
DESCRIPTION:An einem Freitag pro Monat findet für die Mitglieder der\nKreisgruppe Landshut ein Stammtisch statt. Hier bietet sich\ndie Gelegenheit für Jung und Alt\, zwanglos zusammenzukommen\,\nsich auszutauschen und das Miteinander zu stärken. \n\nDie Termine lauten wie folgt: \njeweils Freitags \n09. Januar\, \n06. Februar\, \n06. März\, \n10. April\, \n08. Mai\, \n05. Juni\, \nJuli/August/September PAUSE\, \n02 Oktober\, \n06. November\, \n04. Dezember.
URL:https://siebenbuerger-landshut.de/event/siebenbuergischer-stammtisch-11/
LOCATION:Rosenhof\, Festplatzstraße 3\, Ergolding\, Bayern\, 84030\, Germany
END:VEVENT
BEGIN:VEVENT
DTSTART;TZID=Europe/Berlin:20261213T150000
DTEND;TZID=Europe/Berlin:20261213T233000
DTSTAMP:20260420T030648
CREATED:20260123T185532Z
LAST-MODIFIED:20260123T191031Z
UID:301-1797174000-1797204600@siebenbuerger-landshut.de
SUMMARY:ADVENTSFEIER
DESCRIPTION:Festlicher vorweihnachtlicher Gottesdienst mit Bescherung der Kinder.\nAnschließend gemütliches Beisammensein im Gemeindehaus bei Glühwein\, Punsch und\nBrotzeit.
URL:https://siebenbuerger-landshut.de/event/adventsfeier-2/
LOCATION:Auferstehungskirche\, Fliederstraße 17\, Landshut\, 84032\, Germany
END:VEVENT
END:VCALENDAR