BEGIN:VCALENDAR
VERSION:2.0
PRODID:-//Siebenb&uuml;rger-Sachsen Landshut - ECPv6.15.20//NONSGML v1.0//EN
CALSCALE:GREGORIAN
METHOD:PUBLISH
X-ORIGINAL-URL:https://siebenbuerger-landshut.de
X-WR-CALDESC:Veranstaltungen für Siebenb&uuml;rger-Sachsen Landshut
REFRESH-INTERVAL;VALUE=DURATION:PT1H
X-Robots-Tag:noindex
X-PUBLISHED-TTL:PT1H
BEGIN:VTIMEZONE
TZID:Europe/Berlin
BEGIN:DAYLIGHT
TZOFFSETFROM:+0100
TZOFFSETTO:+0200
TZNAME:CEST
DTSTART:20250330T010000
END:DAYLIGHT
BEGIN:STANDARD
TZOFFSETFROM:+0200
TZOFFSETTO:+0100
TZNAME:CET
DTSTART:20251026T010000
END:STANDARD
BEGIN:DAYLIGHT
TZOFFSETFROM:+0100
TZOFFSETTO:+0200
TZNAME:CEST
DTSTART:20260329T010000
END:DAYLIGHT
BEGIN:STANDARD
TZOFFSETFROM:+0200
TZOFFSETTO:+0100
TZNAME:CET
DTSTART:20261025T010000
END:STANDARD
BEGIN:DAYLIGHT
TZOFFSETFROM:+0100
TZOFFSETTO:+0200
TZNAME:CEST
DTSTART:20270328T010000
END:DAYLIGHT
BEGIN:STANDARD
TZOFFSETFROM:+0200
TZOFFSETTO:+0100
TZNAME:CET
DTSTART:20271031T010000
END:STANDARD
END:VTIMEZONE
BEGIN:VEVENT
DTSTART;TZID=Europe/Berlin:20260818T080000
DTEND;TZID=Europe/Berlin:20260818T170000
DTSTAMP:20260419T210554
CREATED:20260123T190305Z
LAST-MODIFIED:20260123T191206Z
UID:312-1787040000-1787072400@siebenbuerger-landshut.de
SUMMARY:BEURKUNDUNG VON LEBENSBESCHEINIGUNGEN
DESCRIPTION:Die Kreisgruppe Landshut bietet ihren Mitgliedern nun den Service an\, die sogenannten\nLebensbescheinigungen für die Entschädigungszahlungen für Hinterbliebene von\nRusslanddeportierten zu beurkunden. Gemäß dem Kooperationsvertrag zwischen dem Verband\nder Siebenbürger Sachsen in Deutschland e.V. und der nationalen rumänischen Rentenbehörde\nvom 04. Oktober 2024 ist die Kreisgruppe nunmehr dazu berechtigt. An den beiden genannten\nTerminen stehen die berechtigten Vertreter der Kreisgruppe zu Ihrer Verfügung\, bieten\nUnterstützung an und beurkunden Ihre Lebensbescheinigung. Das Formular der\nLebensbescheinigung finden Sie zum Herunterladen unter folgendem Link: \nhttps://www.siebenbuerger.de/zeitung/dateien/2024/formular_lebensbescheinigung.pdf \nOrt: Opalstraße 1\, 84032 Altdorf\n(bitte klingeln bei Versicherungsbüro Hunyar/Niedermaier)\nZeit: nach Vereinbarung mit Wilfried Hunyar (Kassenwart)\, Tel.: 0176/20654420
URL:https://siebenbuerger-landshut.de/event/312/
LOCATION:Bayern
END:VEVENT
BEGIN:VEVENT
DTSTART;TZID=Europe/Berlin:20260821T161500
DTEND;TZID=Europe/Berlin:20260821T233000
DTSTAMP:20260419T210554
CREATED:20260123T185001Z
LAST-MODIFIED:20260123T191152Z
UID:292-1787328900-1787355000@siebenbuerger-landshut.de
SUMMARY:DULTEINZUG
DESCRIPTION:Teilnahme der Kreisgruppe am Einzug der Festwirte und Schausteller. Aufmarsch der\nTrachtenträger unter der Begleitung der Blaskapelle zum Bieranstich vor dem Rathaus und\nweiter zur Festwiese. Trachtenträger sind herzlich eingeladen\, mitzumachen. \n  \nTreffpunkt: Orbankai\, 84028 Landshut\nUhrzeit: Treffpunkt ab 16:15 Uhr\, Abmarsch: 17:00 Uhr
URL:https://siebenbuerger-landshut.de/event/dulteinzug-4/
LOCATION:Orbankai\, 84028\, Landshut\, 84028\, Germany
END:VEVENT
END:VCALENDAR