BEGIN:VCALENDAR
VERSION:2.0
PRODID:-//Siebenb&uuml;rger-Sachsen Landshut - ECPv6.15.20//NONSGML v1.0//EN
CALSCALE:GREGORIAN
METHOD:PUBLISH
X-ORIGINAL-URL:https://siebenbuerger-landshut.de
X-WR-CALDESC:Veranstaltungen für Siebenb&uuml;rger-Sachsen Landshut
REFRESH-INTERVAL;VALUE=DURATION:PT1H
X-Robots-Tag:noindex
X-PUBLISHED-TTL:PT1H
BEGIN:VTIMEZONE
TZID:UTC
BEGIN:STANDARD
TZOFFSETFROM:+0000
TZOFFSETTO:+0000
TZNAME:UTC
DTSTART:20240101T000000
END:STANDARD
END:VTIMEZONE
BEGIN:VEVENT
DTSTART;TZID=UTC:20251115T150000
DTEND;TZID=UTC:20251115T230000
DTSTAMP:20260421T165952
CREATED:20251030T214103Z
LAST-MODIFIED:20251030T214111Z
UID:134-1763218800-1763247600@siebenbuerger-landshut.de
SUMMARY:MITGLIEDERVERSAMMLUNG MIT NEUWAHL DES VORSTANDS
DESCRIPTION:Alle Mitglieder der Kreisgruppe sind herzlich zur ordentlichen Mitgliederversammlung und Neuwahl des Vorstands eingeladen. \nAnschließend THEATERVORFÜHRUNG der Theatergruppe Landshut \n  \n  \nEinlass: 14.30 Uhr \nBeginn: 15.00 Uhr
URL:https://siebenbuerger-landshut.de/event/mitgliederversammlung-mit-neuwahl-des-vorstands/
LOCATION:Saal der Peter-und-Paulkirche Landshut\, Niedermayerstraße 25\, Landshut\, 84028\, Germany
END:VEVENT
END:VCALENDAR