BEGIN:VCALENDAR
VERSION:2.0
PRODID:-//Siebenb&uuml;rger-Sachsen Landshut - ECPv6.15.20//NONSGML v1.0//EN
CALSCALE:GREGORIAN
METHOD:PUBLISH
X-WR-CALNAME:Siebenb&uuml;rger-Sachsen Landshut
X-ORIGINAL-URL:https://siebenbuerger-landshut.de
X-WR-CALDESC:Veranstaltungen für Siebenb&uuml;rger-Sachsen Landshut
REFRESH-INTERVAL;VALUE=DURATION:PT1H
X-Robots-Tag:noindex
X-PUBLISHED-TTL:PT1H
BEGIN:VTIMEZONE
TZID:UTC
BEGIN:STANDARD
TZOFFSETFROM:+0000
TZOFFSETTO:+0000
TZNAME:UTC
DTSTART:20240101T000000
END:STANDARD
END:VTIMEZONE
BEGIN:VEVENT
DTSTART;TZID=UTC:20250705T120000
DTEND;TZID=UTC:20250705T200000
DTSTAMP:20260421T223816
CREATED:20251030T213159Z
LAST-MODIFIED:20251030T213159Z
UID:127-1751716800-1751745600@siebenbuerger-landshut.de
SUMMARY:UNSER KRONEFEST
DESCRIPTION:Musikalische Umrahmung mit der Siebenbürger Blaskapelle Landshut\, Kronenaufstieg undAuftritt der Kulturgruppen. \nFür das leibliche Wohl (Baumstriezel\, Mici und Getränke) ist bestens gesorgt. \n  \n 
URL:https://siebenbuerger-landshut.de/event/unser-kronefest/
LOCATION:Alte Ziegelei\, Rottenburger Straße 24 – 34\, Altdorf\, 84032\, Germany
END:VEVENT
END:VCALENDAR