BEGIN:VCALENDAR
VERSION:2.0
PRODID:-//Siebenb&uuml;rger-Sachsen Landshut - ECPv6.15.20//NONSGML v1.0//EN
CALSCALE:GREGORIAN
METHOD:PUBLISH
X-ORIGINAL-URL:https://siebenbuerger-landshut.de
X-WR-CALDESC:Veranstaltungen für Siebenb&uuml;rger-Sachsen Landshut
REFRESH-INTERVAL;VALUE=DURATION:PT1H
X-Robots-Tag:noindex
X-PUBLISHED-TTL:PT1H
BEGIN:VTIMEZONE
TZID:UTC
BEGIN:STANDARD
TZOFFSETFROM:+0000
TZOFFSETTO:+0000
TZNAME:UTC
DTSTART:20240101T000000
END:STANDARD
END:VTIMEZONE
BEGIN:VEVENT
DTSTART;TZID=UTC:20250405T163000
DTEND;TZID=UTC:20250406T010000
DTSTAMP:20260422T031800
CREATED:20251030T212235Z
LAST-MODIFIED:20251030T212518Z
UID:119-1743870600-1743901200@siebenbuerger-landshut.de
SUMMARY:ZIEKERBALL
DESCRIPTION:Traditioneller Trachtenball mit der Blaskapelle Landshut. Wir würden uns freuen\, wenn möglichst viele Gäste Tracht tragen – ob siebenbürgisch\, bayrisch\, etc. Essen und Getränke dürfen im sogenannten „Zieker“ (geflochtener Henkelkorb) selbst mitgebracht werden. Es wird auch vor Ort für Getränke sowie Kaffee und Kuchen gesorgt. \n  \nEinlass: 16.30 Uhr \nBeginn: 17.00 Uhr
URL:https://siebenbuerger-landshut.de/event/ziekerball/
LOCATION:Bürgersaal Altdorf\, Dekan-Wagner-Straße 15\, Altdorf\, 84032\, Germany
END:VEVENT
BEGIN:VEVENT
DTSTART;TZID=UTC:20250420T080000
DTEND;TZID=UTC:20250420T170000
DTSTAMP:20260422T031800
CREATED:20251030T212743Z
LAST-MODIFIED:20251030T212743Z
UID:122-1745136000-1745168400@siebenbuerger-landshut.de
SUMMARY:DULTEINZUG
DESCRIPTION:Teilnahme der Kreisgruppe am Einzug der Festwirte und Schausteller. Aufmarsch der Trachtenträger unter der Begleitung der Blaskapelle zum Bieranstich vor dem Rathaus und weiter zur Festwiese. Trachtenträger sind herzlich eingeladen\, mitzumachen. \n  \nUhrzeit: Information ab Anfang April bei Kerstin Arz 0171/5020387
URL:https://siebenbuerger-landshut.de/event/dulteinzug/
LOCATION:Orbankai\, 84028\, Landshut\, 84028\, Germany
END:VEVENT
END:VCALENDAR