BEGIN:VCALENDAR
VERSION:2.0
PRODID:-//Siebenb&uuml;rger-Sachsen Landshut - ECPv6.15.20//NONSGML v1.0//EN
CALSCALE:GREGORIAN
METHOD:PUBLISH
X-ORIGINAL-URL:https://siebenbuerger-landshut.de
X-WR-CALDESC:Veranstaltungen für Siebenb&uuml;rger-Sachsen Landshut
REFRESH-INTERVAL;VALUE=DURATION:PT1H
X-Robots-Tag:noindex
X-PUBLISHED-TTL:PT1H
BEGIN:VTIMEZONE
TZID:UTC
BEGIN:STANDARD
TZOFFSETFROM:+0000
TZOFFSETTO:+0000
TZNAME:UTC
DTSTART:20240101T000000
END:STANDARD
END:VTIMEZONE
BEGIN:VEVENT
DTSTART;TZID=UTC:20251214T150000
DTEND;TZID=UTC:20251214T230000
DTSTAMP:20260421T165952
CREATED:20251030T214336Z
LAST-MODIFIED:20251030T214336Z
UID:137-1765724400-1765753200@siebenbuerger-landshut.de
SUMMARY:ADVENTSFEIER
DESCRIPTION:Festlicher vorweihnachtlicher Gottesdienst mit Bescherung der Kinder. Anschließend gemütliches Beisammensein im Gemeindehaus bei Glühwein\, Punsch und Lebkuchen.
URL:https://siebenbuerger-landshut.de/event/adventsfeier/
LOCATION:Auferstehungskirche\, Fliederstraße 17\, Landshut\, 84032\, Germany
END:VEVENT
END:VCALENDAR