BEGIN:VCALENDAR
VERSION:2.0
PRODID:-//Siebenb&uuml;rger-Sachsen Landshut - ECPv6.15.20//NONSGML v1.0//EN
CALSCALE:GREGORIAN
METHOD:PUBLISH
X-ORIGINAL-URL:https://siebenbuerger-landshut.de
X-WR-CALDESC:Veranstaltungen für Siebenb&uuml;rger-Sachsen Landshut
REFRESH-INTERVAL;VALUE=DURATION:PT1H
X-Robots-Tag:noindex
X-PUBLISHED-TTL:PT1H
BEGIN:VTIMEZONE
TZID:UTC
BEGIN:STANDARD
TZOFFSETFROM:+0000
TZOFFSETTO:+0000
TZNAME:UTC
DTSTART:20240101T000000
END:STANDARD
END:VTIMEZONE
BEGIN:VEVENT
DTSTART;TZID=UTC:20250606T000000
DTEND;TZID=UTC:20250609T235959
DTSTAMP:20260422T012949
CREATED:20251030T212915Z
LAST-MODIFIED:20251030T212915Z
UID:125-1749168000-1749513599@siebenbuerger-landshut.de
SUMMARY:HEIMATTAG DER SIEBENBÜRGER SACHSEN IN DINKELSBÜHL
DESCRIPTION:Die Kreisgruppe Landshut wird\, angeführt von der Siebenbürger Blaskapelle Landshut\, wieder beim Trachtenumzug am Heimattag aufmarschieren. Alle Trachtenträger sind herzlich eingeladen mitzumachen. \nAm Pfingstsonntag wird eine Busfahrt für Trachtenträger und Interessenten organisiert. \nAnmeldung und Reisedetails ab Ende Januar bei Kerstin Arz\, Telefon: 0171/5020387
URL:https://siebenbuerger-landshut.de/event/heimattag-der-siebenbuerger-sachsen-in-dinkelsbuehl/
LOCATION:Bayern
END:VEVENT
END:VCALENDAR