BEGIN:VCALENDAR
VERSION:2.0
PRODID:-//Siebenb&uuml;rger-Sachsen Landshut - ECPv6.15.20//NONSGML v1.0//EN
CALSCALE:GREGORIAN
METHOD:PUBLISH
X-WR-CALNAME:Siebenb&uuml;rger-Sachsen Landshut
X-ORIGINAL-URL:https://siebenbuerger-landshut.de
X-WR-CALDESC:Veranstaltungen für Siebenb&uuml;rger-Sachsen Landshut
REFRESH-INTERVAL;VALUE=DURATION:PT1H
X-Robots-Tag:noindex
X-PUBLISHED-TTL:PT1H
BEGIN:VTIMEZONE
TZID:UTC
BEGIN:STANDARD
TZOFFSETFROM:+0000
TZOFFSETTO:+0000
TZNAME:UTC
DTSTART:20240101T000000
END:STANDARD
END:VTIMEZONE
BEGIN:VEVENT
DTSTART;TZID=UTC:20250207T190000
DTEND;TZID=UTC:20250207T220000
DTSTAMP:20260422T074258
CREATED:20251030T211509Z
LAST-MODIFIED:20251030T211927Z
UID:113-1738954800-1738965600@siebenbuerger-landshut.de
SUMMARY:SIEBENBÜRGISCHER STAMMTISCH
DESCRIPTION:An einem Freitag pro Monat findet für die Mitglieder der Kreisgruppe Landshut ein Stammtisch statt. Hier bietet sich die Gelegenheit für Jung und Alt\, zwanglos zusammenzukommen\, sich auszutauschen und das Miteinander zu stärken. Die ersten Termine lauten wie folgt: \njeweils Freitag – \n07. Februar\, 07. März\, 04. April\, 02. Mai\, 13. Juni\, 11 Juli\, 01. August.
URL:https://siebenbuerger-landshut.de/event/siebenbuergischer-stammtisch/
LOCATION:Rosenhof\, Festplatzstraße 3\, Ergolding\, Bayern\, 84030\, Germany
END:VEVENT
END:VCALENDAR